BEGIN:VCALENDAR
VERSION:2.0
PRODID:-//ChamberMaster//Event Calendar 2.0//EN
METHOD:PUBLISH
X-PUBLISHED-TTL:P3D
REFRESH-INTERVAL:P3D
CALSCALE:GREGORIAN
BEGIN:VEVENT
DTSTART:20260509T160000Z
DTEND:20260509T210000Z
X-MICROSOFT-CDO-ALLDAYEVENT:FALSE
SUMMARY:NIU Graduation Celebration at Faranda’s
DESCRIPTION:Celebrate your graduate's big achievement at Faranda's with a special NIU Graduation Celebration on commencement day. This family-friendly event features an upscale buffet experience designed to bring everyone together before or after the ceremony.\n\nGuests will enjoy a premium spread including chef-attended carving stations with prime rib and baked ham\, a saut ed pasta station\, fresh salad bar\, and a full buffet featuring salmon\, Mediterranean grilled chicken\, classic sides\, and more. The menu also includes appetizers like shrimp cocktail and spinach artichoke dip\, plus a dessert selection of cakes\, pies\, and cheesecake.\n\nSeatings are available every 15 minutes from 11:00 AM to 4:00 PM\, making it easy to plan around commencement ceremonies. The atmosphere will feature NIU-inspired touches to make the celebration even more memorable.\n\nReservations are required.
X-ALT-DESC;FMTTYPE=text/html:<p>Celebrate your graduate&rsquo\;s big achievement at Faranda&rsquo\;s with a special NIU Graduation Celebration on commencement day. This family-friendly event features an upscale buffet experience designed to bring everyone together before or after the ceremony.</p>\n\n<p>Guests will enjoy a premium spread including chef-attended carving stations with prime rib and baked ham\, a saut&eacute\;ed pasta station\, fresh salad bar\, and a full buffet featuring salmon\, Mediterranean grilled chicken\, classic sides\, and more. The menu also includes appetizers like shrimp cocktail and spinach artichoke dip\, plus a dessert selection of cakes\, pies\, and cheesecake.</p>\n\n<p>Seatings are available every 15 minutes from 11:00 AM to 4:00 PM\, making it easy to plan around commencement ceremonies. The atmosphere will feature NIU-inspired touches to make the celebration even more memorable.</p>\n\n<p>Reservations are required.</p>\n
LOCATION:Faranda's Banquet Center 302 Grove Street DeKalb IL\, 60115
UID:e.2044.5040
SEQUENCE:3
DTSTAMP:20260420T192111Z
URL:https://dev.genoaareachamber.com/events/details/niu-graduation-celebration-at-faranda-s-5040
END:VEVENT

END:VCALENDAR
